BEGIN:VCALENDAR
VERSION:2.0
PRODID:-//Life Slovenija - ECPv6.15.18//NONSGML v1.0//EN
CALSCALE:GREGORIAN
METHOD:PUBLISH
X-ORIGINAL-URL:https://lifeslovenija.si
X-WR-CALDESC:Dogodki za Life Slovenija
REFRESH-INTERVAL;VALUE=DURATION:PT1H
X-Robots-Tag:noindex
X-PUBLISHED-TTL:PT1H
BEGIN:VTIMEZONE
TZID:Europe/Ljubljana
BEGIN:DAYLIGHT
TZOFFSETFROM:+0100
TZOFFSETTO:+0200
TZNAME:CEST
DTSTART:20240331T010000
END:DAYLIGHT
BEGIN:STANDARD
TZOFFSETFROM:+0200
TZOFFSETTO:+0100
TZNAME:CET
DTSTART:20241027T010000
END:STANDARD
BEGIN:DAYLIGHT
TZOFFSETFROM:+0100
TZOFFSETTO:+0200
TZNAME:CEST
DTSTART:20250330T010000
END:DAYLIGHT
BEGIN:STANDARD
TZOFFSETFROM:+0200
TZOFFSETTO:+0100
TZNAME:CET
DTSTART:20251026T010000
END:STANDARD
BEGIN:DAYLIGHT
TZOFFSETFROM:+0100
TZOFFSETTO:+0200
TZNAME:CEST
DTSTART:20260329T010000
END:DAYLIGHT
BEGIN:STANDARD
TZOFFSETFROM:+0200
TZOFFSETTO:+0100
TZNAME:CET
DTSTART:20261025T010000
END:STANDARD
END:VTIMEZONE
BEGIN:VEVENT
DTSTART;TZID=Europe/Ljubljana:20251002T090000
DTEND;TZID=Europe/Ljubljana:20251002T140000
DTSTAMP:20260422T024316
CREATED:20250904T074038Z
LAST-MODIFIED:20250904T074038Z
UID:29925-1759395600-1759413600@lifeslovenija.si
SUMMARY:Informativni dan LIFE Narava 2025
DESCRIPTION:Vljudno vabljeni na Informativni dan LIFE Narava 2025\, ki ga organizira ekipa projekta LIFE Krepitev zmogljivosti 2. \nDogodek bo potekal 2. oktobra 2025\, med 9. in 14. uro\, v sejni dvorani Ministrstva za kulturo (Maistrova ulica 10\, Ljubljana). \nProgram in prijavo na dogodek najdete tu: Informativni dan LIFE Narava 2025 – Life Slovenija \nPrijave so možne do 29. septembra 2025. Udeležba je brezplačna\, vendar je zaradi organizacije prijava obvezna.
URL:https://lifeslovenija.si/dogodek/informativni-dan-life-narava-2025/
LOCATION:Ministrstvo za kulturo\, Maistrova ulica 10\, Ljubljana\, 1000\, Slovenia
CATEGORIES:Delavnice in dogodki
ATTACH;FMTTYPE=image/png:https://lifeslovenija.si/wp-content/uploads/2025/09/LIFE-info-dan-Narava.png
ORGANIZER;CN="Life Slovenija":MAILTO:life-slovenija.mope@gov.si
END:VEVENT
END:VCALENDAR