BEGIN:VCALENDAR
VERSION:2.0
PRODID:-//Life Slovenija - ECPv6.15.18//NONSGML v1.0//EN
CALSCALE:GREGORIAN
METHOD:PUBLISH
X-ORIGINAL-URL:https://lifeslovenija.si
X-WR-CALDESC:Dogodki za Life Slovenija
REFRESH-INTERVAL;VALUE=DURATION:PT1H
X-Robots-Tag:noindex
X-PUBLISHED-TTL:PT1H
BEGIN:VTIMEZONE
TZID:Europe/Ljubljana
BEGIN:DAYLIGHT
TZOFFSETFROM:+0100
TZOFFSETTO:+0200
TZNAME:CEST
DTSTART:20240331T010000
END:DAYLIGHT
BEGIN:STANDARD
TZOFFSETFROM:+0200
TZOFFSETTO:+0100
TZNAME:CET
DTSTART:20241027T010000
END:STANDARD
BEGIN:DAYLIGHT
TZOFFSETFROM:+0100
TZOFFSETTO:+0200
TZNAME:CEST
DTSTART:20250330T010000
END:DAYLIGHT
BEGIN:STANDARD
TZOFFSETFROM:+0200
TZOFFSETTO:+0100
TZNAME:CET
DTSTART:20251026T010000
END:STANDARD
BEGIN:DAYLIGHT
TZOFFSETFROM:+0100
TZOFFSETTO:+0200
TZNAME:CEST
DTSTART:20260329T010000
END:DAYLIGHT
BEGIN:STANDARD
TZOFFSETFROM:+0200
TZOFFSETTO:+0100
TZNAME:CET
DTSTART:20261025T010000
END:STANDARD
END:VTIMEZONE
BEGIN:VEVENT
DTSTART;VALUE=DATE:20250424
DTEND;VALUE=DATE:20250924
DTSTAMP:20260422T080348
CREATED:20250312T150849Z
LAST-MODIFIED:20250617T130552Z
UID:29347-1745452800-1758671999@lifeslovenija.si
SUMMARY:Razpisi LIFE 2025 za zbiranje projektnih predlogov
DESCRIPTION:Razpisi za zbiranje predlogov LIFE 2025 bodo odprti od 24. aprila 2025 do 23. septembra 2025*. \nEvropski program LIFE je objavil razpis za zbiranje predlogov za leto 2025 in z našo pomočjo lahko svoje zelene zamisli prenesete na naslednjo raven. Ker se začenja tudi kampanja #ForOurPlanet\, še nikoli ni bil boljši čas\, da svojo vizijo spremenite v dejanja! \nČe imate zamisel za ohranjanje narave\, varstvo okolja\, podnebne ukrepe ali prehod Evrope na čisto energijo\, lahko vaš projekt prejme del 600 milijonov EUR\, ki so bili pravkar napovedani za leto 2025. \nObiščite stran z razpisi LIFE 2025\, kjer boste našli vse\, kar potrebujete za prijavo projekta ter seznam podprogramov in okvirnih proračunov\, ki vam bodo pomagali pri odločitvi\, kateri bi bil najprimernejši za vaš projekt. Razpisi so odprti od danes\, 24. aprila 2025 do 23. septembra 2025 (*izjema so predlogi za SIP in SNaP projekte). \nOkvirni proračuni v obdobju 2025-2027 glede na podprogram: \n\nNarava in biotska raznovrstnost – 970.8 milijonov EUR\nKrožno gospodarstvo in kakovost življenja – 567.3 milijonov EUR\nBlaženje podnebnih sprememb in prilagajanje nanje – 376.1 milijona EUR\nPrehod na čisto energijo – 411.8 milijonov EUR\n\nVse podrobnosti o različnih vrstah nepovratnih sredstev za projekte LIFE\, rokih za prijavo in še veliko več si oglejte na strani z razpisi LIFE za leto 2025.
URL:https://lifeslovenija.si/dogodek/zacetek-razpisa-life-2025-za-zbiranje-projektnih-predlogov/
CATEGORIES:Delavnice in dogodki
ATTACH;FMTTYPE=image/jpeg:https://lifeslovenija.si/wp-content/uploads/2025/04/Website-Calls-for-Proposals-830x426px.jpg
ORGANIZER;CN="Life Slovenija":MAILTO:life-slovenija.mope@gov.si
END:VEVENT
BEGIN:VEVENT
DTSTART;TZID=Europe/Ljubljana:20250506T090000
DTEND;TZID=Europe/Ljubljana:20250506T140000
DTSTAMP:20260422T080348
CREATED:20250313T082934Z
LAST-MODIFIED:20250606T111957Z
UID:29352-1746522000-1746540000@lifeslovenija.si
SUMMARY:LIFE CET delavnica
DESCRIPTION:Utrinke in gradiva z delavnice si lahko ogledate tukaj.
URL:https://lifeslovenija.si/dogodek/cet-delavnica/
LOCATION:ARSO\, Vojkova cesta 1b\, Ljubljana\, 1000\, Slovenia
CATEGORIES:Delavnice in dogodki
ATTACH;FMTTYPE=image/png:https://lifeslovenija.si/wp-content/uploads/2025/03/Prehod-na-cisto-energijo-cover.png
ORGANIZER;CN="Life Slovenija":MAILTO:life-slovenija.mope@gov.si
END:VEVENT
BEGIN:VEVENT
DTSTART;TZID=Europe/Ljubljana:20250513T090000
DTEND;TZID=Europe/Ljubljana:20250515T140000
DTSTAMP:20260422T080348
CREATED:20250312T151414Z
LAST-MODIFIED:20250312T151414Z
UID:29349-1747126800-1747317600@lifeslovenija.si
SUMMARY:EU LIFE Info dnevi 2025
DESCRIPTION:Med 13. in 15. majem 2025 bodo organizirani virtualni EU LIFE Info dnevi 2025 v organizaciji Evropske izvršne agencije za podnebje\, infrastrukturo in okolje (CINEA).\nNa dogodkih bodo zainteresirane prijavitelje vodili skozi postopek prijave projekta. \nPodrobnosti o različnih srečanjih in načinu prijave so na voljo tukaj.
URL:https://lifeslovenija.si/dogodek/eu-life-info-dnevi-2025/
CATEGORIES:Delavnice in dogodki
ATTACH;FMTTYPE=image/jpeg:https://lifeslovenija.si/wp-content/uploads/2025/03/4863497-67a0942a4f96d.jpg
ORGANIZER;CN="Life Slovenija":MAILTO:life-slovenija.mope@gov.si
END:VEVENT
END:VCALENDAR