BEGIN:VCALENDAR
VERSION:2.0
PRODID:-//Life Slovenija - ECPv6.15.18//NONSGML v1.0//EN
CALSCALE:GREGORIAN
METHOD:PUBLISH
X-WR-CALNAME:Life Slovenija
X-ORIGINAL-URL:https://lifeslovenija.si
X-WR-CALDESC:Dogodki za Life Slovenija
REFRESH-INTERVAL;VALUE=DURATION:PT1H
X-Robots-Tag:noindex
X-PUBLISHED-TTL:PT1H
BEGIN:VTIMEZONE
TZID:Europe/Ljubljana
BEGIN:DAYLIGHT
TZOFFSETFROM:+0100
TZOFFSETTO:+0200
TZNAME:CEST
DTSTART:20240331T010000
END:DAYLIGHT
BEGIN:STANDARD
TZOFFSETFROM:+0200
TZOFFSETTO:+0100
TZNAME:CET
DTSTART:20241027T010000
END:STANDARD
BEGIN:DAYLIGHT
TZOFFSETFROM:+0100
TZOFFSETTO:+0200
TZNAME:CEST
DTSTART:20250330T010000
END:DAYLIGHT
BEGIN:STANDARD
TZOFFSETFROM:+0200
TZOFFSETTO:+0100
TZNAME:CET
DTSTART:20251026T010000
END:STANDARD
BEGIN:DAYLIGHT
TZOFFSETFROM:+0100
TZOFFSETTO:+0200
TZNAME:CEST
DTSTART:20260329T010000
END:DAYLIGHT
BEGIN:STANDARD
TZOFFSETFROM:+0200
TZOFFSETTO:+0100
TZNAME:CET
DTSTART:20261025T010000
END:STANDARD
BEGIN:DAYLIGHT
TZOFFSETFROM:+0100
TZOFFSETTO:+0200
TZNAME:CEST
DTSTART:20270328T010000
END:DAYLIGHT
BEGIN:STANDARD
TZOFFSETFROM:+0200
TZOFFSETTO:+0100
TZNAME:CET
DTSTART:20271031T010000
END:STANDARD
END:VTIMEZONE
BEGIN:VEVENT
DTSTART;TZID=Europe/Ljubljana:20260312T090000
DTEND;TZID=Europe/Ljubljana:20260312T140000
DTSTAMP:20260421T230928
CREATED:20251210T100059Z
LAST-MODIFIED:20260317T053828Z
UID:30239-1773306000-1773324000@lifeslovenija.si
SUMMARY:2. LIFE delavnica za pisanje projektnih prijav (Okolje)
DESCRIPTION:2. LIFE delavnica (Krožno gospodarstvo in Podnebje) v četrtek\, 12. marca 2026\n  \n\nTo je drugi modul v seriji treh delavnic\, zasnovanih tako\, da udeležence postopno vodijo skozi vse faze priprave projektne prijave za podprograma LIFE Krožno gospodarstvo in kakovost življenja ter LIFE Blaženje podnebnih sprememb in prilagajanje nanje.\nNa tej delavnici se bomo osredotočili na:\n– načrtovanje projektnih aktivnosti\,\n– opredelitev trajnosti\, ponovljivosti in nadaljnje uporabe rezultatov\,\n– opredelitev in nagovarjanje ciljnih skupin ter deležnikov projekta.\nPraktične vsebine bo z vami delila Irena Likar iz PROJEKT-I\, izdelava projektov in svetovanje. \n\n  \nNaslednja\, zadnja delavnica v tej seriji bo 9. aprila 2026.\nSvetujemo udeležbo na vseh treh delavnicah\, saj sledijo fazam snovanja projekta in se med seboj dopolnjujejo.\n  \nGradiva delavnice najdete na povezavi: Gradiva in utrinki 2. LIFE delavnice 2026 – Life Slovenija
URL:https://lifeslovenija.si/dogodek/2-life-delavnica-za-pisanje-projektnih-prijav-okolje/
CATEGORIES:Delavnice in dogodki
ATTACH;FMTTYPE=image/png:https://lifeslovenija.si/wp-content/uploads/2025/12/Life-slovenija-delavnica-okolje.png
ORGANIZER;CN="Life Slovenija":MAILTO:life-slovenija.mope@gov.si
END:VEVENT
BEGIN:VEVENT
DTSTART;TZID=Europe/Ljubljana:20260128T090000
DTEND;TZID=Europe/Ljubljana:20260128T140000
DTSTAMP:20260421T230928
CREATED:20251210T094810Z
LAST-MODIFIED:20260317T053509Z
UID:30232-1769590800-1769608800@lifeslovenija.si
SUMMARY:1. LIFE delavnica za pisanje projektnih prijav (Okolje in podnebje)
DESCRIPTION:1. LIFE delavnica (Krožno gospodarstvo in Podnebje) v sredo\, 28. januarja 2026 – ZASEDENA\n  \n\nTo je prvi modul v seriji treh delavnic\, zasnovanih tako\, da udeležence postopno vodijo skozi vse faze priprave projektne prijave za podprograma LIFE Krožno gospodarstvo in kakovost življenja ter LIFE Blaženje podnebnih sprememb in prilagajanje nanje.\nNa tej delavnici boste pridobili dragocene veščine za pripravo kakovostnih prijav na razpise programa LIFE. Poleg teoretičnih znanj bo praktični del omogočil\, da pridobljeno znanje preizkusite na primeru LIFE projekta. Praktične vsebine bo z vami delila Irena Likar iz PROJEKT-I\, izdelava projektov in svetovanje. \n\n  \nNaslednji delavnici v tej seriji bosta 12. marca in 9. aprila 2026.\nSvetujemo udeležbo na vseh treh delavnicah\, saj sledijo fazam snovanja projekta in se med seboj dopolnjujejo.\n  \nGradiva delavnice najdete na povezavi: Gradiva in utrinki 1. LIFE delavnice 2026 – Life Slovenija
URL:https://lifeslovenija.si/dogodek/1-life-delavnica-za-pisanje-projektnih-prijav-okolje/
LOCATION:Center Rog\, Trubarjeva 72\, Ljubljana\, 1000\, Slovenia
CATEGORIES:Delavnice in dogodki
ATTACH;FMTTYPE=image/png:https://lifeslovenija.si/wp-content/uploads/2025/12/Life-slovenija-delavnica-okolje.png
ORGANIZER;CN="Life Slovenija":MAILTO:life-slovenija.mope@gov.si
END:VEVENT
BEGIN:VEVENT
DTSTART;TZID=Europe/Ljubljana:20250619T100000
DTEND;TZID=Europe/Ljubljana:20250619T120000
DTSTAMP:20260421T230928
CREATED:20250617T131220Z
LAST-MODIFIED:20250617T131221Z
UID:29808-1750327200-1750334400@lifeslovenija.si
SUMMARY:Predstavitev programa LIFE na dogodku Evropska finančna sredstva za krožno prihodnost
DESCRIPTION:Vabljeni na spletni dogodek Evropska finančna sredstva za krožno prihodnost: Priložnosti za MSP-je v aktualnih EU razpisih in inovativnih pobudah\, ki bo potekal 19. junija 2025 preko Zoom. Osredotočen bo na financiranje projektov\, ki spodbujajo krožno transformacijo\, zlasti za mala in srednje velika podjetja (MSP). V sodelovanju s tehnološkim centrom TECOS in DIGI.SI vam bomo predstavili aktualne evropske projekte in priložnosti za vključitev v inovativne pobude\, predvsem pa aktualne možnosti financiranja v okviru EU razpisov (med drugim tudi naša ekipa in program LIFE)\, vse s poudarkom na krožnem gospodarstvu. \nVeč o dogodku in prijava na: Evropska finančna sredstva za krožno prihodnost: Priložnosti za MSP-je v aktualnih EU razpisih in inovativnih pobudah – Life Slovenija
URL:https://lifeslovenija.si/dogodek/predstavitev-programa-life-na-dogodku-evropska-financna-sredstva-za-krozno-prihodnost/
CATEGORIES:Delavnice in dogodki
ATTACH;FMTTYPE=image/png:https://lifeslovenija.si/wp-content/uploads/2025/06/EU-funding-klinika-TPLJ-19_6_2025-1024x683-1.png
ORGANIZER;CN="DIGI.SI":MAILTO:info@digi-si.eu
END:VEVENT
END:VCALENDAR